BEGIN:VCALENDAR
VERSION:2.0
PRODID:-//ChamberMaster//Event Calendar 2.0//EN
METHOD:PUBLISH
X-PUBLISHED-TTL:P3D
REFRESH-INTERVAL:P3D
CALSCALE:GREGORIAN
BEGIN:VEVENT
DTSTART:20201001T170000Z
DTEND:20201001T180000Z
X-MICROSOFT-CDO-ALLDAYEVENT:FALSE
SUMMARY:Virtual Travel Events with AAA - USA DESTINATIONS - TAUCK TOURS
DESCRIPTION:Join us for these special events where you'll receive personalized attention from AAA Travel Professionals and enjoy unique\, informative presentations by AAA Travel Partners\, as you learn about the many incredible cruise\, tour and vacation options we offer. Plus\, only AAA Travel offers the exclusive benefits\, exceptional savings and special experiences that make the most of every vacation.\n\nWhatever your taste or budget\, we'll help you plan the perfect trip - mark your calendar!
X-ALT-DESC;FMTTYPE=text/html:<span style="font-size:12pt"><span style="font-family:arial\,sans-serif"><span style="color:rgb(85\, 85\, 85)">Join us for these special events where you&#39\;ll receive personalized attention from AAA Travel Professionals and enjoy unique\, informative presentations by AAA Travel Partners\, as you learn about the many incredible cruise\, tour and vacation options we offer. Plus\, only AAA Travel offers the exclusive benefits\, exceptional savings and special experiences that make the most of every vacation.</span></span></span><br />\n<strong><em><span style="font-size:12pt"><span style="font-family:arial\,sans-serif"><span style="color:rgb(85\, 85\, 85)">Whatever your taste or budget\, we&#39\;ll help you plan the perfect trip - mark your calendar! </span></span></span></em></strong>
LOCATION:AAA Virtual Event Join from your computer\, tablet or phone!
UID:e.2931.8287
SEQUENCE:3
DTSTAMP:20260424T200224Z
URL:http://www.claytonchamber.org/events/details/virtual-travel-events-with-aaa-usa-destinations-tauck-tours-8287
END:VEVENT

END:VCALENDAR
