BEGIN:VCALENDAR
VERSION:2.0
PRODID:-//ChamberMaster//Event Calendar 2.0//EN
METHOD:PUBLISH
X-PUBLISHED-TTL:P3D
REFRESH-INTERVAL:P3D
CALSCALE:GREGORIAN
BEGIN:VEVENT
DTSTART:20190725T150000Z
DTEND:20190725T160000Z
X-MICROSOFT-CDO-ALLDAYEVENT:FALSE
SUMMARY:The Millar Law Firm Ribbon Cutting Ceremony!
DESCRIPTION:Please join The Millar Law Firm as we celebrate moving into our new City of Jonesboro office\, as well as 26 years in business. Light refreshments will be served.
X-ALT-DESC;FMTTYPE=text/html:Please join The Millar Law Firm as we celebrate moving into our new City of Jonesboro office\, as well as 26 years in business. Light refreshments will be served.
LOCATION:151 North Main Street Jonesboro\, GA 30236
UID:e.2931.7527
SEQUENCE:3
DTSTAMP:20260422T154300Z
URL:http://www.claytonchamber.org/events/details/the-millar-law-firm-ribbon-cutting-ceremony-07-25-2019-7527
END:VEVENT

END:VCALENDAR
