BEGIN:VCALENDAR
VERSION:2.0
PRODID:-//ChamberMaster//Event Calendar 2.0//EN
METHOD:PUBLISH
X-PUBLISHED-TTL:P3D
REFRESH-INTERVAL:P3D
CALSCALE:GREGORIAN
BEGIN:VEVENT
DTSTART:20190719T130000Z
DTEND:20190802T200000Z
X-MICROSOFT-CDO-ALLDAYEVENT:FALSE
SUMMARY:The Millar Law Firm Pencils 4 Clayton County Schools
DESCRIPTION:Calling all Clayton County teachers\, principals\, and school faculty! The personal injury lawyers at The Millar Law Firm are proud to announce our first annual Pencils 4 Clayton County Schools pencil drive. Our goal is simple   to help local educators and schools prepare our future leaders for success without having to worry about this basic classroom necessity.\n\n\n\nREGISTER: https://atlantaadvocate.com/pencils-4-clayton-county-schools/\n\n\n\nEach educator who registers\, will receive a box of 150 pre-sharpened No. 2 pencils. Pencils will be made available to teachers who register and receive a confirmation email\, while supplies last. \n\n\n\nPICK UP: All educators who register for a box of pencils\, will receive a confirmation email and confirmation number. Teachers will be able to pick their box up immediately following our Ribbon Cutting Ceremony\, being held at 151 N Main St\, Jonesboro\, GA 30236 on Thursday\, July 25 from 11am-12pm.\n\n\n\nPencils will also be available for pick up Monday   Friday at our Jonesboro office:\n\n\n\n151 N Main St. Jonesboro\, GA 30236\n\nMonday through Friday\, 9AM-4PM.\n\nThe last day for pick up is Friday\, August 2nd.\n\n\n\n* You must have a confirmation email and confirmation number available at pick up\, as well as a photo ID.\n\n\n\n* Pencils must be picked up in person\, by those who registered in advance. No walk ups.
X-ALT-DESC;FMTTYPE=text/html:<span style="background-color:rgb(255\, 255\, 255)\; color:rgb(29\, 33\, 41)\; font-family:helvetica\,arial\,sans-serif\; font-size:14px">Calling all Clayton County teachers\, principals\, and school faculty! The personal injury lawyers at The Millar Law Firm are proud to announce our first annual Pencils 4 Clayton County Schools pencil drive. Our goal is simple &ndash\; to help local educators and schools prepare our future leaders for success without having to worry about this basic classroom necessity.</span><br />\n<br />\n<span style="background-color:rgb(255\, 255\, 255)\; color:rgb(29\, 33\, 41)\; font-family:helvetica\,arial\,sans-serif\; font-size:14px">REGISTER: </span><a href="https://atlantaadvocate.com/pencils-4-clayton-county-schools/?fbclid=IwAR239xU809q1iQ7SGo2XK72CRxkX07C9b3KheZkA4C1BwM8SvQbfXlU3wxo" rel="nofollow noopener" style="color: rgb(56\, 88\, 152)\; cursor: pointer\; text-decoration-line: none\; font-family: Helvetica\, Arial\, sans-serif\; font-size: 14px\; white-space: pre-wrap\; background-color: rgb(255\, 255\, 255)\;" target="_blank">https://atlantaadvocate.com/pencils-4-clayton-county-schools/</a><br />\n<br />\n<span style="background-color:rgb(255\, 255\, 255)\; color:rgb(29\, 33\, 41)\; font-family:helvetica\,arial\,sans-serif\; font-size:14px">Each educator who registers\, will receive a box of 150 pre-sharpened No. 2 pencils. Pencils will be made available to teachers who register and receive a confirmation email\, while supplies last. </span><br />\n<br />\n<span style="background-color:rgb(255\, 255\, 255)\; color:rgb(29\, 33\, 41)\; font-family:helvetica\,arial\,sans-serif\; font-size:14px">PICK UP: All educators who register for a box of pencils\, will receive a confirmation email and confirmation number. Teachers will be able to pick their box up immediately following our Ribbon Cutting Ceremony\, being held at 151 N Main St\, Jonesboro\, GA 30236 on Thursday\, July 25 from 11am-12pm.</span><br />\n<br />\n<span style="background-color:rgb(255\, 255\, 255)\; color:rgb(29\, 33\, 41)\; font-family:helvetica\,arial\,sans-serif\; font-size:14px">Pencils will also be available for pick up Monday &ndash\; Friday at our Jonesboro office:</span><br />\n<br />\n<span style="background-color:rgb(255\, 255\, 255)\; color:rgb(29\, 33\, 41)\; font-family:helvetica\,arial\,sans-serif\; font-size:14px">151 N Main St. Jonesboro\, GA 30236</span><br />\n<span style="background-color:rgb(255\, 255\, 255)\; color:rgb(29\, 33\, 41)\; font-family:helvetica\,arial\,sans-serif\; font-size:14px">Monday through Friday\, 9AM-4PM.</span><br />\n<span style="background-color:rgb(255\, 255\, 255)\; color:rgb(29\, 33\, 41)\; font-family:helvetica\,arial\,sans-serif\; font-size:14px">The last day for pick up is Friday\, August 2nd.</span><br />\n<br />\n<span style="background-color:rgb(255\, 255\, 255)\; color:rgb(29\, 33\, 41)\; font-family:helvetica\,arial\,sans-serif\; font-size:14px">* You must have a confirmation email and confirmation number available at pick up\, as well as a photo ID.</span><br />\n<br />\n<span style="background-color:rgb(255\, 255\, 255)\; color:rgb(29\, 33\, 41)\; font-family:helvetica\,arial\,sans-serif\; font-size:14px">* Pencils must be picked up in person\, by those who registered in advance. No walk ups.</span>
LOCATION:151 N. Main Jonesboro\, GA 30236
UID:e.2931.7546
SEQUENCE:3
DTSTAMP:20260422T154152Z
URL:http://www.claytonchamber.org/events/details/the-millar-law-firm-pencils-4-clayton-county-schools-7546
END:VEVENT

END:VCALENDAR
