BEGIN:VCALENDAR
VERSION:2.0
PRODID:-//ChamberMaster//Event Calendar 2.0//EN
METHOD:PUBLISH
X-PUBLISHED-TTL:P3D
REFRESH-INTERVAL:P3D
CALSCALE:GREGORIAN
BEGIN:VEVENT
DTSTART:20190903T130000Z
DTEND:20191101T200000Z
X-MICROSOFT-CDO-ALLDAYEVENT:FALSE
SUMMARY:The Millar Law Firm Coat Drive
DESCRIPTION:The Millar Law Firm is partnering with One Warm Coat for another season of giving! We'll be accepting new and clean\, gently used coats Tuesday\, Sept. 3 through Friday\, Nov. 1\, excluding weekends. Please bring coats in all sizes\, from infant - adult\, to our Jonesboro office at 151 N. Main St. Jonesboro\, GA 30236. We're right next to Suntrust Bank. All coats we collect will be delivered locally to help our neighbors who are in need of a warmer winter.\n\n \n\nDates: Sept. 3   Nov. 1\, 2019\n\nHours: Monday through Friday\, 9am-4pm. We are closed on weekends.\n\n \n\nNo appointment necessary. You can drop your donation in the box in our lobby area. \n\n\n\n*We cannot accept monetary donations in person. However\, you can donate online directly to One Warm Coat on our coat drive page at https://onewarmcoat.salsalabs.org/register/p/themillarlawfirmcoatdrive/index.htm
X-ALT-DESC;FMTTYPE=text/html:The Millar Law Firm is partnering with One Warm Coat for another season of giving! We&#39\;ll be accepting new and clean\, gently used coats Tuesday\, Sept. 3 through Friday\, Nov. 1\, excluding weekends. Please bring coats in all sizes\, from infant - adult\, to our Jonesboro office at 151 N. Main St. Jonesboro\, GA 30236. We&#39\;re right next to Suntrust Bank. All coats we collect will be delivered locally to help our neighbors who are in need of a warmer winter.<br />\n&nbsp\;<br />\nDates: Sept. 3 &ndash\; Nov. 1\, 2019<br />\nHours: Monday through Friday\, 9am-4pm. We are closed on weekends.<br />\n&nbsp\;<br />\nNo appointment necessary. You can drop your donation in the box in our lobby area.&nbsp\;<br />\n<br />\n*We cannot accept monetary donations in person. However\, you can donate online directly to One Warm Coat on our coat drive page at <a href="https://onewarmcoat.salsalabs.org/register/p/themillarlawfirmcoatdrive/index.html">https://onewarmcoat.salsalabs.org/register/p/themillarlawfirmcoatdrive/index.htm</a>
LOCATION:151 N. Main St. Jonesboro\, GA 30236
UID:e.2931.7565
SEQUENCE:3
DTSTAMP:20260424T012610Z
URL:http://www.claytonchamber.org/events/details/the-millar-law-firm-coat-drive-7565
END:VEVENT

END:VCALENDAR
