BEGIN:VCALENDAR
VERSION:2.0
PRODID:-//ChamberMaster//Event Calendar 2.0//EN
METHOD:PUBLISH
X-PUBLISHED-TTL:P3D
REFRESH-INTERVAL:P3D
CALSCALE:GREGORIAN
BEGIN:VEVENT
DTSTART:20190723T160000Z
DTEND:20190723T220000Z
X-MICROSOFT-CDO-ALLDAYEVENT:FALSE
SUMMARY:The Millar Law Firm Blood Drive
DESCRIPTION:Please join us for The Millar Law Firm blood drive! Supply is low for all blood types and your donation can help save lives.\n\n\n\nTo give blood you must be in good health\, 17 years or older (or 16 with parental permission)\, weigh at least 110 pounds\, and show a valid photo I.D. You also must not have donated blood in the last 56 days.\n\n\n\n*** We will be raffling off a FREE 49" Smart TV! Each donor will receive 1 raffle ticket. ***\n\n \nMake an appointment HERE: http://tinyurl.com/TheMillarLawFirmBloodDrive\n\n\nIf you can donate before July 23\, great! Visit https://donors.lifesouth.org/donor/schedules/zip for a list of blood centers and drives going on now.
X-ALT-DESC;FMTTYPE=text/html:<span style="color: rgb(29\, 33\, 41)\; font-family: helvetica\,arial\,sans-serif\; font-size: 14px\;">Please join us for The Millar Law Firm blood drive! Supply is low for all blood types and your donation can help save lives.</span><br />\n<br />\n<span style="color: rgb(29\, 33\, 41)\; font-family: helvetica\,arial\,sans-serif\; font-size: 14px\;">To give blood you must be in good health\, 17 years or older (or 16 with parental permission)\, weigh at least 110 pounds\, and show a valid photo I.D. You also must not have donated blood in the last 56 days.</span><br />\n<br />\n<span style="color: rgb(29\, 33\, 41)\; font-family: helvetica\,arial\,sans-serif\; font-size: 14px\;">*** We will be raffling off a FREE 49&quot\; Smart TV! Each donor will receive 1 raffle ticket. ***</span><br />\n&nbsp\;\n<div style="text-align: center\;"><span style="font-size: 16px\;"><strong>Make an appointment HERE: http://tinyurl.com/TheMillarLawFirmBloodDrive</strong></span></div>\n<br />\n<span style="color: rgb(29\, 33\, 41)\; font-family: helvetica\,arial\,sans-serif\; font-size: 14px\;">If you can donate before July 23\, great! Visit </span><a href="https://donors.lifesouth.org/donor/schedules/zip?fbclid=IwAR0AFK0F7NAMOR9tnXGllNjMpATzRPrVEnws3pgx4WhmjEEPMaINFxU_MFA" rel="nofollow noopener" style="color: rgb(56\, 88\, 152)\; font-family: Helvetica\, Arial\, sans-serif\; font-size: 14px\; white-space: pre-wrap\; cursor: pointer\; text-decoration-line: none\;" target="_blank">https://donors.lifesouth.org/donor/schedules/zip</a><span style="color: rgb(29\, 33\, 41)\; font-family: helvetica\,arial\,sans-serif\; font-size: 14px\;"> for a list of blood centers and drives going on now.</span>
LOCATION:151 N Main St Jonesboro\, GA 30236
UID:e.2931.7529
SEQUENCE:3
DTSTAMP:20260422T154029Z
URL:http://www.claytonchamber.org/events/details/the-millar-law-firm-blood-drive-7529
END:VEVENT

END:VCALENDAR
