BEGIN:VCALENDAR
VERSION:2.0
PRODID:-//ChamberMaster//Event Calendar 2.0//EN
METHOD:PUBLISH
X-PUBLISHED-TTL:P3D
REFRESH-INTERVAL:P3D
CALSCALE:GREGORIAN
BEGIN:VEVENT
DTSTART:20201111T150000Z
DTEND:20201111T160000Z
X-MICROSOFT-CDO-ALLDAYEVENT:FALSE
SUMMARY:The Introvert’s Guide to Effective Networking
DESCRIPTION:Do you ever go to a networking event where there are people who seem fearless? These people approach others\, always know the right thing to say\, and seem to know most of the people in the room. The truth is\, these people are probably introverts. They circulate and say the right things because they've worked on it: they know their strategy entering the room\, and they know what they want to happen. They have honed their skills and learned the secrets to great networking. It's time for you to learn them\, too. Learning Objectives / Outcomes - Attendees should leave this workshop with the confidence to: - Attend networking events with a mission - Approach and introduce yourself to individuals or groups - Tell a compelling story - Obtain and maintain lasting relationships with impact
X-ALT-DESC;FMTTYPE=text/html:<span style="font-size: 16px\; caret-color: rgb(119\, 119\, 119)\; color: rgb(119\, 119\, 119)\; font-family: &quot\;Merriweather Sans&quot\;\, &quot\;Open Sans&quot\;\, sans-serif\; background-color: rgb(255\, 255\, 255)\;">Do you ever go to a networking event where there are people who seem fearless? These people approach others\, always know the right thing to say\, and seem to know most of the people in the room. The truth is\, these people are probably introverts. They circulate and say the right things because they&rsquo\;ve worked on it: they know their strategy entering the room\, and they know what they want to happen. They have honed their skills and learned the secrets to great networking. It&rsquo\;s time for you to learn them\, too. Learning Objectives / Outcomes - Attendees should leave this workshop with the confidence to: - Attend networking events with a mission - Approach and introduce yourself to individuals or groups - Tell a compelling story - Obtain and maintain lasting relationships with impact</span>\n<div>&nbsp\;</div>\n\n<div id="UMS_TOOLTIP" style="position: absolute\; cursor: pointer\; z-index: 2147483647\; background-color: transparent\; top: -100000px\; left: -100000px\; background-position: initial initial\; background-repeat: initial initial\;">&nbsp\;</div>\n
LOCATION:
UID:e.2931.8314
SEQUENCE:3
DTSTAMP:20260422T040712Z
URL:http://www.claytonchamber.org/events/details/the-introvert-s-guide-to-effective-networking-8314
END:VEVENT

END:VCALENDAR
