BEGIN:VCALENDAR
VERSION:2.0
PRODID:-//ChamberMaster//Event Calendar 2.0//EN
METHOD:PUBLISH
X-PUBLISHED-TTL:P3D
REFRESH-INTERVAL:P3D
CALSCALE:GREGORIAN
BEGIN:VEVENT
DTSTART:20201112T140000Z
DTEND:20201112T150000Z
X-MICROSOFT-CDO-ALLDAYEVENT:FALSE
SUMMARY:SunTrust Now Truist Networking Series\, November 12\, 2020
DESCRIPTION:Join Dr. Tom Epperson with the InnerWill Leadership Institute for a discussion on resiliency planning for your organization\, the importance of reassessing and aligning your strategy\, and leading through crisis. Registration Link: \n\nhttps://zoom.us/webinar/register/WN_LsDMeUjUSSm21jD-j7rY3Q
X-ALT-DESC;FMTTYPE=text/html:<span style="caret-color: rgb(32\, 31\, 30)\; color: rgb(32\, 31\, 30)\; font-family: Calibri\, sans-serif\; font-size: 14.666666984558105px\; background-color: rgb(255\, 255\, 255)\;">Join Dr. Tom Epperson with the InnerWill Leadership Institute for a discussion on resiliency planning for your organization\, the importance of reassessing and aligning your strategy\, and leading through crisis. Registration Link:&nbsp\;</span><br />\n<span style="color: rgb(51\, 51\, 51)\; font-family: Lato\, Helvetica\, Arial\; font-size: 14px\; white-space: nowrap\; caret-color: rgb(35\, 35\, 51)\; background-color: rgb(255\, 255\, 255)\;">https://zoom.us/webinar/register/WN_LsDMeUjUSSm21jD-j7rY3Q&nbsp\;</span>\n<div id="UMS_TOOLTIP" style="position: absolute\; cursor: pointer\; z-index: 2147483647\; background-color: transparent\; top: -100000px\; left: -100000px\; background-position: initial initial\; background-repeat: initial initial\;">&nbsp\;</div>\n
LOCATION:
UID:e.2931.8251
SEQUENCE:3
DTSTAMP:20260422T060544Z
URL:http://www.claytonchamber.org/events/details/suntrust-now-truist-networking-series-november-12-2020-8251
END:VEVENT

END:VCALENDAR
