BEGIN:VCALENDAR
VERSION:2.0
PRODID:-//ChamberMaster//Event Calendar 2.0//EN
METHOD:PUBLISH
X-PUBLISHED-TTL:P3D
REFRESH-INTERVAL:P3D
CALSCALE:GREGORIAN
BEGIN:VEVENT
DTSTART:20210121T140000Z
DTEND:20210121T150000Z
X-MICROSOFT-CDO-ALLDAYEVENT:FALSE
SUMMARY:SunTrust Now Truist Networking Series Event\, January 21\, 2021
DESCRIPTION:Join us for the first SunTrust now Truist Networking Series event of 2021 featuring a discussion with the Small Business Development Center (SBDC) to learn about the new pandemic relief package which includes $325 billion for small businesses\, changes to PPP\, the addition of a "Second Draw" PPP\, EIDL\, the Employee Retention Tax Credit\, and Venue Grant Program.\n\nREGISTER HERE: https://zoom.us/webinar/register/WN_8mwQCM03TQywGbQ5hANdMw
X-ALT-DESC;FMTTYPE=text/html:<span style="font-style: italic\; font-weight: bold\; font-family: arial\;">Join us for the first SunTrust now Truist Networking Series event of 2021 featuring </span><span style="font-size:12px\;"><span style="font-family:arial\;"><em><strong><span style="color: rgb(35\, 35\, 51)\;">a discussion with the Small Business Development Center (SBDC) to learn about the new pandemic relief package which includes $325 billion for small businesses\, changes to PPP\, the addition of a &quot\;Second Draw&quot\; PPP\, EIDL\, the Employee Retention Tax Credit\, and Venue Grant Program.</span></strong></em></span></span><br />\n<strong><em>REGISTER HERE:</em></strong>&nbsp\;https://zoom.us/webinar/register/WN_8mwQCM03TQywGbQ5hANdMw
LOCATION:Virtual Event via ZOOM https://zoom.us/webinar/register/WN_8mwQCM03TQywGbQ5hANdMw
UID:e.2931.8323
SEQUENCE:3
DTSTAMP:20260424T184812Z
URL:http://www.claytonchamber.org/events/details/suntrust-now-truist-networking-series-event-january-21-2021-8323
END:VEVENT

END:VCALENDAR
