BEGIN:VCALENDAR
VERSION:2.0
PRODID:-//ChamberMaster//Event Calendar 2.0//EN
METHOD:PUBLISH
X-PUBLISHED-TTL:P3D
REFRESH-INTERVAL:P3D
CALSCALE:GREGORIAN
BEGIN:VEVENT
DTSTART:20210415T130000Z
DTEND:20210415T140000Z
X-MICROSOFT-CDO-ALLDAYEVENT:FALSE
SUMMARY:SunTrust Now Truist Networking Series Event - April 2021
DESCRIPTION:Join us for the April SunTrust now Truist Networking Series event for an update from MARTA about future transit improvements\, including the 30-year vision for Clayton County which incorporates redesigned bus routes\, High Capacity Transit\, Park and Ride facilities\, and Mobility Hubs.\n\n\n\nREGISTER HERE: \n\nhttps://zoom.us/webinar/register/WN_TBmKPN7XQ4CrLJFwfldODQ
X-ALT-DESC;FMTTYPE=text/html:<span style="font-style: italic\; font-weight: bold\; font-family: arial\;">Join us for the April SunTrust now Truist Networking Series event for an&nbsp\;</span><span class="JsGRdQ" style="letter-spacing: 0.04em\; font-weight: 700\;">update from</span><span class="JsGRdQ white-space-prewrap" style="letter-spacing: 0.04em\; font-weight: 700\;">&nbsp\;</span><span class="JsGRdQ" style="letter-spacing: 0.04em\; font-weight: 700\;">MARTA about future transit&nbsp\;</span><span style="font-weight: 700\; letter-spacing: 0.04em\;">improvements\, including the 30-year vision for Clayton County which&nbsp\;</span><span style="font-weight: 700\; letter-spacing: 0.04em\;">incorporates redesigned bus routes\, High Capacity Transit\, Park and Ride&nbsp\;</span><span style="font-weight: 700\; letter-spacing: 0.04em\;">facilities\, and Mobility Hubs.</span><br />\n<br />\n<span style="color:#000000\;"><strong><em>REGISTER HERE:</em></strong>&nbsp\;</span><br />\nhttps://zoom.us/webinar/register/WN_TBmKPN7XQ4CrLJFwfldODQ
LOCATION:Virtual Event via ZOOM https://zoom.us/webinar/register/WN_TBmKPN7XQ4CrLJFwfldODQ
UID:e.2931.8341
SEQUENCE:3
DTSTAMP:20260423T184754Z
URL:http://www.claytonchamber.org/events/details/suntrust-now-truist-networking-series-event-april-2021-8341
END:VEVENT

END:VCALENDAR
