BEGIN:VCALENDAR
VERSION:2.0
PRODID:-//ChamberMaster//Event Calendar 2.0//EN
METHOD:PUBLISH
X-PUBLISHED-TTL:P3D
REFRESH-INTERVAL:P3D
CALSCALE:GREGORIAN
BEGIN:VEVENT
DTSTART:20210402T210000Z
DTEND:20210402T220000Z
X-MICROSOFT-CDO-ALLDAYEVENT:FALSE
SUMMARY:Spicy Hill Restaurant Ribbon Cutting Celebration
DESCRIPTION:Join us for a Ribbon Cutting and champagne toast to celebrate the opening of Spicy Hill Restaurant featuring happy hour specials\, live music\, and hors d' oeuvres.
X-ALT-DESC;FMTTYPE=text/html:Join us for a Ribbon Cutting and champagne toast to celebrate the opening of Spicy Hill Restaurant featuring happy hour specials\, live music\, and hors d&#39\; oeuvres.&nbsp\;
LOCATION:1544 Tara Rd. Jonesboro\, GA 30238
UID:e.2931.8368
SEQUENCE:3
DTSTAMP:20260423T201900Z
URL:http://www.claytonchamber.org/events/details/spicy-hill-restaurant-ribbon-cutting-celebration-8368
END:VEVENT

END:VCALENDAR
