BEGIN:VCALENDAR
VERSION:2.0
PRODID:-//ChamberMaster//Event Calendar 2.0//EN
METHOD:PUBLISH
X-PUBLISHED-TTL:P3D
REFRESH-INTERVAL:P3D
CALSCALE:GREGORIAN
BEGIN:VEVENT
DTSTART:20201209T190000Z
DTEND:20201209T200000Z
X-MICROSOFT-CDO-ALLDAYEVENT:FALSE
SUMMARY:Ribbon Cutting Celebration - Cohesive Consulting
DESCRIPTION:Join us for our ribbon cutting celebration! \n\nwww.meetcrystalcooper.com
X-ALT-DESC;FMTTYPE=text/html:Join us for our ribbon cutting celebration!&nbsp\;<br />\nwww.meetcrystalcooper.com&nbsp\;\n<div id="UMS_TOOLTIP" style="position: absolute\; cursor: pointer\; z-index: 2147483647\; background-color: transparent\; top: -100000px\; left: -100000px\; background-position: initial initial\; background-repeat: initial initial\;">&nbsp\;</div>\n
LOCATION:1115 Mt. Zion Rd. Suite I Morrow\, GA 30260
UID:e.2931.8317
SEQUENCE:3
DTSTAMP:20260421T230219Z
URL:http://www.claytonchamber.org/events/details/ribbon-cutting-celebration-cohesive-consulting-8317
END:VEVENT

END:VCALENDAR
