BEGIN:VCALENDAR
VERSION:2.0
PRODID:-//ChamberMaster//Event Calendar 2.0//EN
METHOD:PUBLISH
X-PUBLISHED-TTL:P3D
REFRESH-INTERVAL:P3D
CALSCALE:GREGORIAN
BEGIN:VEVENT
DTSTART:20201112T190000Z
DTEND:20201112T203000Z
X-MICROSOFT-CDO-ALLDAYEVENT:FALSE
SUMMARY:Reach Customers Online with Google
DESCRIPTION:Join us for a no cost Business webinar on how Google helps your business stand out on Google Search and Maps. Show the world what's unique about your business! And\, reach customers that are searching for what you offer. We will discuss tools and tips to improve website performance and help your business appear across Google Search and Maps. Topics include: Your Google Listing and Why it is Important | Connecting to Your Website to Drive Traffic | Creating Useful and Relevant Content | Viewing Trends and SEO Through Google Analytics | Using Google Ads\n\n\n\n \n\nCheck other locations and dates for this program
X-ALT-DESC;FMTTYPE=text/html:<div class="row wpu_program_fulldetails_row" style="box-sizing: border-box\; margin: 0px\; width: 808.75px\; clear: both\; caret-color: rgb(119\, 119\, 119)\; color: rgb(119\, 119\, 119)\; font-family: &quot\;Merriweather Sans&quot\;\; font-size: 15px\;">\n<div class="col-md-8 col-lg-10 wpu_program_fulldetails_inst_col2" style="box-sizing: border-box\; position: relative\; min-height: 1px\; padding-right: 15px\; padding-left: 15px\; float: left\; width: 673.953125px\;"><span style="color:#000000\;"><span class="wpu_program_fulldetails_col2_text" style="box-sizing: border-box\; font-family: &quot\;Merriweather Sans&quot\;\, &quot\;Open Sans&quot\;\, sans-serif\; font-size: 16px\; line-height: 30px\; margin-left: 7px\; width: auto\;">Join us for a no cost Business webinar on how Google helps your business stand out on Google Search and Maps. Show the world what&rsquo\;s unique about your business! And\, reach customers that are searching for what you offer. We will discuss tools and tips to improve website performance and help your business appear across Google Search and Maps. Topics include: Your Google Listing and Why it is Important | Connecting to Your Website to Drive Traffic | Creating Useful and Relevant Content | Viewing Trends and SEO Through Google Analytics | Using Google Ads</span></span></div>\n</div>\n\n<div class="row wpu_program_fulldetails_row" style="box-sizing: border-box\; margin: 0px\; width: 808.75px\; clear: both\; caret-color: rgb(119\, 119\, 119)\; color: rgb(119\, 119\, 119)\; font-family: &quot\;Merriweather Sans&quot\;\; font-size: 15px\;">\n<div class="col-md-4 col-lg-2 wpu_program_fulldetails_more_col1" style="box-sizing: border-box\; position: relative\; min-height: 1px\; padding-right: 15px\; padding-left: 15px\; float: left\; width: 134.78125px\;">&nbsp\;</div>\n\n<div class="col-md-8 col-lg-10 wpu_program_fulldetails_col2_text" style="box-sizing: border-box\; position: relative\; min-height: 1px\; padding-right: 15px\; padding-left: 15px\; float: left\; width: auto\; font-family: &quot\;Merriweather Sans&quot\;\, &quot\;Open Sans&quot\;\, sans-serif\; font-size: 16px\; line-height: 30px\; margin-left: 7px\;"><a class="wpu_program_fulldetails_locations_text" href="https://www.georgiasbdc.org/reach-customers-online-with-google" style="box-sizing: border-box\; color: inherit\; text-decoration: none\; transition-duration: 0.4s\;"><span style="color:#000000\;">Check other locations and dates for this program</span></a></div>\n</div>\n\n<div id="UMS_TOOLTIP" style="position: absolute\; cursor: pointer\; z-index: 2147483647\; background-color: transparent\; top: -100000px\; left: -100000px\; background-position: initial initial\; background-repeat: initial initial\;">&nbsp\;</div>\n
LOCATION:
UID:e.2931.8315
SEQUENCE:3
DTSTAMP:20260422T060528Z
URL:http://www.claytonchamber.org/events/details/reach-customers-online-with-google-8315
END:VEVENT

END:VCALENDAR
