BEGIN:VCALENDAR
VERSION:2.0
PRODID:-//ChamberMaster//Event Calendar 2.0//EN
METHOD:PUBLISH
X-PUBLISHED-TTL:P3D
REFRESH-INTERVAL:P3D
CALSCALE:GREGORIAN
BEGIN:VEVENT
DTSTART:20190716T160000Z
DTEND:20190716T170000Z
X-MICROSOFT-CDO-ALLDAYEVENT:FALSE
SUMMARY:Lunch & Learn
DESCRIPTION:Please join us for a highly requested Lunch and Learn to be held at the Clayton County Chamber of Commerce on July 16th! \n\n\n\nEnjoy a complimentary lunch catered by the Atlanta Bread Company\, while obtaining valuable information on tax credits available to Clayton County business owners!\n\n\n\nSeats are limited\, so be sure to register as soon as possible to ensure yours.\n\n\n\nUse the link below to register:\n\nhttps://www.tracsgroup.com/events-1/lunch-learn-at-clayton-county-chamber-of-commerce
X-ALT-DESC;FMTTYPE=text/html:Please join us for a highly requested Lunch and Learn to be held at the Clayton County Chamber of Commerce on July 16th!&nbsp\;<br />\n<br />\nEnjoy a complimentary lunch catered by the Atlanta Bread Company\, while obtaining valuable information on tax credits available to Clayton County business owners!<br />\n<br />\nSeats are limited\, so be sure to register as soon as possible to ensure yours.<br />\n<br />\nUse the link below to register:<br />\n<a href="https://www.tracsgroup.com/events-1/lunch-learn-at-clayton-county-chamber-of-commerce">https://www.tracsgroup.com/events-1/lunch-learn-at-clayton-county-chamber-of-commerce</a>
LOCATION:Clayton County Chamber of Commerce 2270 Mount Zion Road Jonesboro\, GA 30236
UID:e.2931.7532
SEQUENCE:3
DTSTAMP:20260422T153821Z
URL:http://www.claytonchamber.org/events/details/lunch-learn-7532
END:VEVENT

END:VCALENDAR
