BEGIN:VCALENDAR
VERSION:2.0
PRODID:-//ChamberMaster//Event Calendar 2.0//EN
METHOD:PUBLISH
X-PUBLISHED-TTL:P3D
REFRESH-INTERVAL:P3D
CALSCALE:GREGORIAN
BEGIN:VEVENT
DTSTART:20201104T170000Z
DTEND:20201104T180000Z
X-MICROSOFT-CDO-ALLDAYEVENT:FALSE
SUMMARY:Legal Education: Planning for the Return of Employees Seminar
DESCRIPTION:REGISTER AT LINK TO THE RIGHT \n\n\n\nLearn about issues employers should consider when planning to restart or ramp up operations following the unexpected economic downturn caused by the public health crisis.\n\nJoin live session: https://ibm.webex.com/ibm/onstage/g.php?MTID=ecdb60b1822d7df3b7f143b1f0144f9bc\n\nPassword\, if necessary: ReigniteBO2020
X-ALT-DESC;FMTTYPE=text/html:<p style="font-size: 16px\; margin: 0px\; padding: 10px 0px 0px\; color: rgb(111\, 114\, 135)\; line-height: 1.5rem\; font-family: &quot\;Neue Plak&quot\;\, -apple-system\, BlinkMacSystemFont\, Roboto\, &quot\;Helvetica Neue&quot\;\, Helvetica\, Tahoma\, Arial\, sans-serif\; letter-spacing: 0.5px\;"><span style="font-size:20px\;"><u><strong>REGISTER AT LINK TO THE RIGHT&nbsp\;</strong></u></span><br />\n<br />\nLearn about issues employers should consider when planning to restart or ramp up operations following the unexpected economic downturn caused by the public health crisis.</p>\n\n<p style="font-size: 16px\; margin: 0px\; padding: 10px 0px 0px\; color: rgb(111\, 114\, 135)\; line-height: 1.5rem\; font-family: &quot\;Neue Plak&quot\;\, -apple-system\, BlinkMacSystemFont\, Roboto\, &quot\;Helvetica Neue&quot\;\, Helvetica\, Tahoma\, Arial\, sans-serif\; letter-spacing: 0.5px\;"><span style="font-weight: 700\; padding-top: 0px\;">Join live session:</span>&nbsp\;<a href="https://ibm.webex.com/ibm/onstage/g.php?MTID=ecdb60b1822d7df3b7f143b1f0144f9bc" rel="nofollow noopener noreferrer" style="color: var(--eds-control\,#3659e3)\; text-decoration: none\; cursor: pointer\;" target="_blank">https://ibm.webex.com/ibm/onstage/g.php?MTID=ecdb60b1822d7df3b7f143b1f0144f9bc</a></p>\n\n<p style="font-size: 16px\; margin: 0px\; padding: 10px 0px 0px\; color: rgb(111\, 114\, 135)\; line-height: 1.5rem\; font-family: &quot\;Neue Plak&quot\;\, -apple-system\, BlinkMacSystemFont\, Roboto\, &quot\;Helvetica Neue&quot\;\, Helvetica\, Tahoma\, Arial\, sans-serif\; letter-spacing: 0.5px\;"><span style="font-weight: 700\; padding-top: 0px\;">Password</span>\, if necessary:&nbsp\;<span style="font-weight: 700\;">ReigniteBO2020</span></p>\n\n<div id="UMS_TOOLTIP" style="position: absolute\; cursor: pointer\; z-index: 2147483647\; background-color: transparent\; top: -100000px\; left: -100000px\; background-position: initial initial\; background-repeat: initial initial\;">&nbsp\;</div>\n
LOCATION:
UID:e.2931.8304
SEQUENCE:3
DTSTAMP:20260422T060900Z
URL:http://www.claytonchamber.org/events/details/legal-education-planning-for-the-return-of-employees-seminar-8304
END:VEVENT

END:VCALENDAR
