BEGIN:VCALENDAR
VERSION:2.0
PRODID:-//ChamberMaster//Event Calendar 2.0//EN
METHOD:PUBLISH
X-PUBLISHED-TTL:P3D
REFRESH-INTERVAL:P3D
CALSCALE:GREGORIAN
BEGIN:VEVENT
DTSTART:20210401T150000Z
DTEND:20210401T200000Z
X-MICROSOFT-CDO-ALLDAYEVENT:FALSE
SUMMARY:KUEHNE + NAGEL HIRING EVENT 11:00PM-4:00PM
DESCRIPTION:Kuehne+ Nagel Distribution Center is hiring warehouse workers starting pay is $15.00 an hour.\n\n\n\nFor more information contact the Stockbridge Career Center at 678-514-0898.
X-ALT-DESC;FMTTYPE=text/html:Kuehne+ Nagel Distribution Center is hiring warehouse workers starting pay is $15.00 an hour.<br />\n<br />\nFor more information contact the Stockbridge Career Center at 678-514-0898.<br />\n&nbsp\;
LOCATION:7291 Davidson Pkwy N. Stockbridge\, GA. 30281
UID:e.2931.8371
SEQUENCE:3
DTSTAMP:20260423T202205Z
URL:http://www.claytonchamber.org/events/details/kuehne-nagel-hiring-event-11-00pm-4-00pm-8371
END:VEVENT

END:VCALENDAR
