BEGIN:VCALENDAR
VERSION:2.0
PRODID:-//ChamberMaster//Event Calendar 2.0//EN
METHOD:PUBLISH
X-PUBLISHED-TTL:P3D
REFRESH-INTERVAL:P3D
CALSCALE:GREGORIAN
BEGIN:VEVENT
DTSTART:20190709T153000Z
DTEND:20190709T173000Z
X-MICROSOFT-CDO-ALLDAYEVENT:FALSE
SUMMARY:Kom'-ay Restoration Medical Clinic Ribbon Cutting
DESCRIPTION:Ribbon Cutting Celebration\n\nAt Kom'-ay Restoration Medical Clinic we take a holistic restorative health and wellness approach to hair loss restoration.\n\nOur goal is to maintain our client's hair\, scalp and total health and wellness needs.
X-ALT-DESC;FMTTYPE=text/html:<p><span style="font-family: times new roman\;"><strong>Ribbon Cutting Celebration</strong></span></p>\n\n<p align="LEFT"><b><font face="Lora-BoldItalic" size="2"><font face="Lora-BoldItalic" size="2">At Kom&#39\;-ay Restoration Medical Clinic </font></font></b><b><font face="Lora-BoldItalic" size="2"><font face="Lora-BoldItalic" size="2">we take a holistic restorative </font></font></b><b><font face="Lora-BoldItalic" size="2"><font face="Lora-BoldItalic" size="2">health and wellness approach to hair loss restoration.</font></font></b></p>\n\n<p align="LEFT"><b><font face="Lora-BoldItalic" size="2"><font face="Lora-BoldItalic" size="2">Our goal is to maintain our client&#39\;s hair\, </font></font></b><b><font face="Lora-BoldItalic" size="2"><font face="Lora-BoldItalic" size="2">scalp and total health and wellness needs.</font></font></b></p>\n\n<p>&nbsp\;</p>\n\n<p>&nbsp\;</p>\n
LOCATION:7454 Hannover Parkway Suite 100-B Stockbridge\, GA 30281
UID:e.2931.7536
SEQUENCE:3
DTSTAMP:20260422T154400Z
URL:http://www.claytonchamber.org/events/details/kom-ay-restoration-medical-clinic-ribbon-cutting-7536
END:VEVENT

END:VCALENDAR
