BEGIN:VCALENDAR
VERSION:2.0
PRODID:-//ChamberMaster//Event Calendar 2.0//EN
METHOD:PUBLISH
X-PUBLISHED-TTL:P3D
REFRESH-INTERVAL:P3D
CALSCALE:GREGORIAN
BEGIN:VEVENT
DTSTART:20201111T193000Z
DTEND:20201111T211500Z
X-MICROSOFT-CDO-ALLDAYEVENT:FALSE
SUMMARY:Jencare Jingle Drive-Thru Gift Giveaway!
DESCRIPTION:Every year\, Jencare closes all of it's centers on this day to give back to the community! For 2020\, we are hosting a drive-through gift giveaway for Seniors that have grandchildren "in need" for gifts for the holidays. Just a small token to say thank you to our Clayton County community and to choose love this holiday season.
X-ALT-DESC;FMTTYPE=text/html:Every year\, Jencare closes all of it&#39\;s centers on this day to give back to the community! For 2020\, we are hosting a drive-through gift giveaway for Seniors that have grandchildren &quot\;in need&quot\; for gifts for the holidays. Just a small token to say thank you to our Clayton County community and to choose love this holiday season.&nbsp\;
LOCATION:Jencare Senior Medical Center 1331 Mount Zion Rd. Morrow\, GA 30260
UID:e.2931.8312
SEQUENCE:3
DTSTAMP:20260422T060620Z
URL:http://www.claytonchamber.org/events/details/jencare-jingle-drive-thru-gift-giveaway-8312
END:VEVENT

END:VCALENDAR
