BEGIN:VCALENDAR
VERSION:2.0
PRODID:-//ChamberMaster//Event Calendar 2.0//EN
METHOD:PUBLISH
X-PUBLISHED-TTL:P3D
REFRESH-INTERVAL:P3D
CALSCALE:GREGORIAN
BEGIN:VEVENT
DTSTART:20190720T160000Z
DTEND:20190720T190000Z
X-MICROSOFT-CDO-ALLDAYEVENT:FALSE
SUMMARY:Injury 2 Wellness Health Fair
DESCRIPTION:Join us for our health fair on July 20th from 12-3PM! Along with our participants\, the goal of this event is to promote health and wellness within our community.
X-ALT-DESC;FMTTYPE=text/html:Join us for our health fair on July 20th from 12-3PM! Along with our participants\, the goal of this event is to promote health and wellness within our community.
LOCATION:6348 1/2 Tara Blvd. Jonesboro GA 30236
UID:e.2931.7524
SEQUENCE:3
DTSTAMP:20260422T154132Z
URL:http://www.claytonchamber.org/events/details/injury-2-wellness-health-fair-7524
END:VEVENT

END:VCALENDAR
