BEGIN:VCALENDAR
VERSION:2.0
PRODID:-//ChamberMaster//Event Calendar 2.0//EN
METHOD:PUBLISH
X-PUBLISHED-TTL:P3D
REFRESH-INTERVAL:P3D
CALSCALE:GREGORIAN
BEGIN:VEVENT
DTSTART:20210421T190000Z
DTEND:20210421T200000Z
X-MICROSOFT-CDO-ALLDAYEVENT:FALSE
SUMMARY:Grand Re-Opening & Ribbon Cutting Celebration for Little Lions Farm Stand at Little Ones Learning Center
DESCRIPTION:Join us for a Grand Re-Opening & Ribbon Cutting Celebration of the Little Lions Farm Stand with our friends at Little Ones Learning Center. Locally grown produce will be available for purchase.
X-ALT-DESC;FMTTYPE=text/html:<br />\nJoin us for a Grand Re-Opening &amp\; Ribbon Cutting Celebration of the Little Lions Farm Stand with our friends at Little Ones Learning Center.&nbsp\;Locally grown produce will be available for purchase.
LOCATION:993 Forest Avenue Forest Park\, GA 30297
UID:e.2931.8370
SEQUENCE:3
DTSTAMP:20260423T151926Z
URL:http://www.claytonchamber.org/events/details/grand-re-opening-ribbon-cutting-celebration-for-little-lions-farm-stand-at-little-ones-learning-center-8370
END:VEVENT

END:VCALENDAR
