BEGIN:VCALENDAR
VERSION:2.0
PRODID:-//ChamberMaster//Event Calendar 2.0//EN
METHOD:PUBLISH
X-PUBLISHED-TTL:P3D
REFRESH-INTERVAL:P3D
CALSCALE:GREGORIAN
BEGIN:VEVENT
DTSTART:20190711T120000Z
DTEND:20190711T233000Z
X-MICROSOFT-CDO-ALLDAYEVENT:FALSE
SUMMARY:Cyber Strategy Retreat - Atlanta
DESCRIPTION:The Cyber Strategy Retreat brings business\, IT\, and risk management leaders together to explore and discuss the value that strategic planning contributes to developing cybersecurity and risk management programs that produce real\, meaningful results. Do you know what to do about all the data breaches you hear about in the news? Do you have strategies in place to manage your technology and security risk? Can you benefit from the wisdom and insight of global risk management leaders? If you answered "yes" to any of these questions\, please consider attending this one-day conference at the Loews Atlanta Hotel on 11 July 2019.\n\n\n\nMembers of the Clayton County Chamber of Commerce can request a complimentary invitation by completing the online form or by sending an email request to CyberStrategyRetreat@class-llc.com.
X-ALT-DESC;FMTTYPE=text/html:<p><span style="font-size: 14px\;"><span style="font-family: times new roman\;">The Cyber Strategy Retreat brings business\, IT\, and risk management leaders together to explore and discuss the value that strategic planning contributes to developing cybersecurity and risk management programs that produce real\, meaningful results. Do you know what to do about all the data breaches you hear about in the news? Do you have strategies in place to manage your technology and security risk? Can you benefit from the wisdom and insight of global risk management leaders? If you answered &quot\;yes&quot\; to any of these questions\, please consider attending this one-day conference at the Loews Atlanta Hotel on 11 July 2019.<br />\n<br />\nMembers of the Clayton County Chamber of Commerce can request a complimentary invitation by completing the online <a href="https://class-llc.com/event-invitation-request/?eventname=The%20Cyber%20Strategy%20Retreat%20Atlanta">form</a>&nbsp\;or by sending an email request to <a href="mailto:CyberStrategyRetreat@class-llc.com?subject=Atlanta%20Invitation%20Request">CyberStrategyRetreat@class-llc.com</a>.&nbsp\;</span></span></p>\n
LOCATION:Loews Atlanta Hotel 1065 Peachtree St NE Atlanta\, GA 30309
UID:e.2931.7518
SEQUENCE:3
DTSTAMP:20260422T154638Z
URL:http://www.claytonchamber.org/events/details/cyber-strategy-retreat-atlanta-7518
END:VEVENT

END:VCALENDAR
