BEGIN:VCALENDAR
VERSION:2.0
PRODID:-//ChamberMaster//Event Calendar 2.0//EN
METHOD:PUBLISH
X-PUBLISHED-TTL:P3D
REFRESH-INTERVAL:P3D
CALSCALE:GREGORIAN
BEGIN:VEVENT
DTSTART:20190710T153000Z
DTEND:20190710T173000Z
X-MICROSOFT-CDO-ALLDAYEVENT:FALSE
SUMMARY:Clayton County Business Panel Discussion
DESCRIPTION:Please join us for a Business Panel Discussion and complimentary lunch on July 10 at Lake City Community Center!\n\n \n\nYou won't want to miss this rare opportunity to learn from a few of the brightest minds in the industry! Gear up for an exciting lineup\, featuring several prominent figures of Clayton County! \n\n\n\nAdmission is absolutely free\, but we do ask that you register no later than July 8 to secure your spot. \n\n\n\nPlease click the link below to register:\n\nhttps://www.tracsgroup.com/events-1/clayton-county-business-panel-discussion
X-ALT-DESC;FMTTYPE=text/html:Please join us for a Business Panel Discussion and complimentary lunch on July 10 at Lake City Community Center!<br />\n&nbsp\;<br />\nYou won&#39\;t want to miss this rare opportunity to learn from a few of the brightest minds in the industry! Gear up for an exciting lineup\, featuring several prominent figures of Clayton County!&nbsp\;<br />\n<br />\nAdmission is absolutely free\, but we do ask that you register no later than July 8 to secure your spot.&nbsp\;<br />\n<br />\nPlease click the link below to register:<br />\n<a href="https://www.tracsgroup.com/events-1/clayton-county-business-panel-discussion">https://www.tracsgroup.com/events-1/clayton-county-business-panel-discussion</a><br />\n&nbsp\;
LOCATION:Lake City Community Center 5471 Jonesboro Road Lake City\, GA 30260
UID:e.2931.7530
SEQUENCE:3
DTSTAMP:20260422T155900Z
URL:http://www.claytonchamber.org/events/details/clayton-county-business-panel-discussion-7530
END:VEVENT

END:VCALENDAR
