BEGIN:VCALENDAR
VERSION:2.0
PRODID:-//ChamberMaster//Event Calendar 2.0//EN
METHOD:PUBLISH
X-PUBLISHED-TTL:P3D
REFRESH-INTERVAL:P3D
CALSCALE:GREGORIAN
BEGIN:VEVENT
DTSTART:20191021T160000Z
DTEND:20191029T160000Z
X-MICROSOFT-CDO-ALLDAYEVENT:FALSE
SUMMARY:Chamber Trip to China
DESCRIPTION:CLICK HERE TO VIEW MORE INFORMATION
X-ALT-DESC;FMTTYPE=text/html:<a href="http://www.claytonchamber.org/china-trip">CLICK HERE TO VIEW MORE INFORMATION</a>
LOCATION:
UID:e.2931.7196
SEQUENCE:3
DTSTAMP:20260421T165759Z
URL:http://www.claytonchamber.org/events/details/chamber-trip-to-china-7196
END:VEVENT

END:VCALENDAR
