BEGIN:VCALENDAR
VERSION:2.0
PRODID:-//ChamberMaster//Event Calendar 2.0//EN
METHOD:PUBLISH
X-PUBLISHED-TTL:P3D
REFRESH-INTERVAL:P3D
CALSCALE:GREGORIAN
BEGIN:VEVENT
DTSTART:20201117T170000Z
DTEND:20201117T180000Z
X-MICROSOFT-CDO-ALLDAYEVENT:FALSE
SUMMARY:Business Strategy: Reimagining Business Purpose Seminar
DESCRIPTION:REGISTER AT LINK TO THE RIGHT \n\n\n\nIn order to recover in a post-crisis era\, companies should rethink their business models as they return to full speed. Those who adjust\, adapt and reimagine their business will be far more ready to confront the challenges and opportunities that manifest in the future. \n\nIn this live seminar you will gain:\n\n\n	Inspiration to execute: Refine your value propositions and business strategies to keep up with dramatic shifts in customer expectations and demand patterns (action plan)\n	Insights from experts: Learn from experts and gain insights into businesses that have leveraged disruptive innovation to succeed in uncertain times\n	Business differentiation: Examine the impact of your business strengths to deliver innovative products and services\n\n\nAbout the presenter:\n\nFolake Fabunmi is a Business Transformation Consultant with over 20 years working with enterprise clients to drive business value. \n\nJoin live session: https://ibm.webex.com/ibm/onstage/g.php?MTID=e97ff24b76fe1897afc459f60f4996c4b\n\nPassword\, if needed: ReigniteBO2020
X-ALT-DESC;FMTTYPE=text/html:<p style="font-size: 16px\; margin: 0px\; padding: 10px 0px 0px\; color: rgb(111\, 114\, 135)\; line-height: 1.5rem\; font-family: &quot\;Neue Plak&quot\;\, -apple-system\, BlinkMacSystemFont\, Roboto\, &quot\;Helvetica Neue&quot\;\, Helvetica\, Tahoma\, Arial\, sans-serif\; letter-spacing: 0.5px\;"><span style="font-size:20px\;"><u><strong>REGISTER AT LINK TO THE RIGHT&nbsp\;</strong></u></span><br />\n<br />\nIn order to recover in a post-crisis era\, companies should rethink their business models as they return to full speed. Those who adjust\, adapt and reimagine their business will be far more ready to confront the challenges and opportunities that manifest in the future.&nbsp\;</p>\n\n<p style="font-size: 16px\; margin: 0px\; padding: 10px 0px 0px\; color: rgb(111\, 114\, 135)\; line-height: 1.5rem\; font-family: &quot\;Neue Plak&quot\;\, -apple-system\, BlinkMacSystemFont\, Roboto\, &quot\;Helvetica Neue&quot\;\, Helvetica\, Tahoma\, Arial\, sans-serif\; letter-spacing: 0.5px\;"><span style="font-weight: 700\; padding-top: 0px\;">In this live seminar you will gain:</span></p>\n\n<ul style="font-size: 16px\; margin: 0px\; padding: 10px 0px 0px 2em\; list-style-position: initial\; list-style-image: initial\; color: rgb(111\, 114\, 135)\; line-height: 1.5rem\; font-family: &quot\;Neue Plak&quot\;\, -apple-system\, BlinkMacSystemFont\, Roboto\, &quot\;Helvetica Neue&quot\;\, Helvetica\, Tahoma\, Arial\, sans-serif\; letter-spacing: 0.5px\;">\n	<li style="margin: 0px\; padding: 0px\;">Inspiration to execute: Refine your value propositions and business strategies to keep up with dramatic shifts in customer expectations and demand patterns (action plan)</li>\n	<li style="margin: 0px\; padding: 5px 0px 0px\;">Insights from experts: Learn from experts and gain insights into businesses that have leveraged disruptive innovation to succeed in uncertain times</li>\n	<li style="margin: 0px\; padding: 5px 0px 0px\;">Business differentiation: Examine the impact of your business strengths to deliver innovative products and services</li>\n</ul>\n\n<h3 style="margin: 0px\; padding: 10px 0px 0px\; color: rgb(30\, 10\, 60)\; font-size: 20px\; line-height: 1.75rem\; font-weight: 400\; font-family: &quot\;Neue Plak&quot\;\, -apple-system\, BlinkMacSystemFont\, Roboto\, &quot\;Helvetica Neue&quot\;\, Helvetica\, Tahoma\, Arial\, sans-serif\; letter-spacing: 0.5px\;">About the presenter:</h3>\n\n<p style="font-size: 16px\; margin: 0px\; padding: 10px 0px 0px\; color: rgb(111\, 114\, 135)\; line-height: 1.5rem\; font-family: &quot\;Neue Plak&quot\;\, -apple-system\, BlinkMacSystemFont\, Roboto\, &quot\;Helvetica Neue&quot\;\, Helvetica\, Tahoma\, Arial\, sans-serif\; letter-spacing: 0.5px\;">Folake Fabunmi is a Business Transformation Consultant with over 20 years working with enterprise clients to drive business value.&nbsp\;</p>\n\n<p style="font-size: 16px\; margin: 0px\; padding: 10px 0px 0px\; color: rgb(111\, 114\, 135)\; line-height: 1.5rem\; font-family: &quot\;Neue Plak&quot\;\, -apple-system\, BlinkMacSystemFont\, Roboto\, &quot\;Helvetica Neue&quot\;\, Helvetica\, Tahoma\, Arial\, sans-serif\; letter-spacing: 0.5px\;"><span style="font-weight: 700\; padding-top: 0px\;">Join live session:</span>&nbsp\;<a href="https://ibm.webex.com/ibm/onstage/g.php?MTID=e97ff24b76fe1897afc459f60f4996c4b" rel="nofollow noopener noreferrer" style="color: var(--eds-control\,#3659e3)\; text-decoration: none\; cursor: pointer\;" target="_blank">https://ibm.webex.com/ibm/onstage/g.php?MTID=e97ff24b76fe1897afc459f60f4996c4b</a></p>\n\n<p style="font-size: 16px\; margin: 0px\; padding: 10px 0px 0px\; color: rgb(111\, 114\, 135)\; line-height: 1.5rem\; font-family: &quot\;Neue Plak&quot\;\, -apple-system\, BlinkMacSystemFont\, Roboto\, &quot\;Helvetica Neue&quot\;\, Helvetica\, Tahoma\, Arial\, sans-serif\; letter-spacing: 0.5px\;"><span style="font-weight: 700\; padding-top: 0px\;">Password</span>\, if needed:&nbsp\;<span style="font-weight: 700\;">ReigniteBO2020</span></p>\n\n<div id="UMS_TOOLTIP" style="position: absolute\; cursor: pointer\; z-index: 2147483647\; background-color: transparent\; top: -100000px\; left: -100000px\; background-position: initial initial\; background-repeat: initial initial\;">&nbsp\;</div>\n
LOCATION:
UID:e.2931.8305
SEQUENCE:3
DTSTAMP:20260422T060702Z
URL:http://www.claytonchamber.org/events/details/business-strategy-reimagining-business-purpose-seminar-8305
END:VEVENT

END:VCALENDAR
