BEGIN:VCALENDAR
VERSION:2.0
PRODID:-//ChamberMaster//Event Calendar 2.0//EN
METHOD:PUBLISH
X-PUBLISHED-TTL:P3D
REFRESH-INTERVAL:P3D
CALSCALE:GREGORIAN
BEGIN:VEVENT
DTSTART:20210617T140000Z
DTEND:20210617T153000Z
X-MICROSOFT-CDO-ALLDAYEVENT:FALSE
SUMMARY:Balance Sheets and Beyond Part 1: Great Foundations
DESCRIPTION:Do you know what your financial records say about the health of your business? If not\, you may be on shaky financial ground and/or at the mercy of your CPA or bookkeeper when it comes to understanding and managing your business finances. "Great Foundations" is Part 1 of the Balance Sheets & Beyond three-part class series. Each class is a building block towards the development of a strong financial foundation\, an understanding of the numbers and financial statements that drive business decisions\, and strategies for using financial statements as a business management tool.  \n\nWhether your business is new or up-and-running\, you'll learn the core principles required to successfully manage your finances and keep your business stable and successful. Register Today!\nAll programs of the UGA SBDC are open to the public on a non-discriminatory basis. Reasonable accommodations for persons with disabilities will be made if requested at least two weeks in advance.
X-ALT-DESC;FMTTYPE=text/html:<p><span style="font-size:16px"><span style="font-family:arial\,helvetica\,sans-serif">Do you know what your financial records say about the health of your business? If not\, you may be on shaky financial ground and/or at the mercy of your CPA or bookkeeper when it comes to understanding and managing your business finances. &quot\;Great Foundations&quot\; is Part 1 of the&nbsp\;<em>Balance Sheets &amp\; Beyond</em>&nbsp\;three-part class series. Each class is a building block towards the development of a strong financial foundation\, an understanding of the numbers and financial statements that drive business decisions\, and strategies for using financial statements as a business management tool.&nbsp\;&nbsp\;</span></span></p>\n\n<p><span style="font-size:14px"><span style="font-family:arial\,helvetica\,sans-serif"><span style="font-size:16px">Whether your business is new or up-and-running\, you&#39\;ll learn the core principles required to successfully manage your finances and keep your business stable and successful. Register Today!</span></span></span></p>\n<span style="font-size:12px"><span style="font-family:merriweather sans\,tahoma\,sans-serif">All programs of the UGA SBDC are open to the public on a non-discriminatory basis. Reasonable accommodations for persons with disabilities will be made if requested at least two weeks in advance.</span></span><br />\n<br />\n&nbsp\;
LOCATION:Live online webinar.
UID:e.2931.8431
SEQUENCE:3
DTSTAMP:20260419T172920Z
URL:http://www.claytonchamber.org/events/details/balance-sheets-and-beyond-part-1-great-foundations-8431
END:VEVENT

END:VCALENDAR
