BEGIN:VCALENDAR
VERSION:2.0
PRODID:-//ChamberMaster//Event Calendar 2.0//EN
METHOD:PUBLISH
X-PUBLISHED-TTL:P3D
REFRESH-INTERVAL:P3D
CALSCALE:GREGORIAN
BEGIN:VEVENT
DTSTART:20201106T210000Z
DTEND:20201106T230000Z
X-MICROSOFT-CDO-ALLDAYEVENT:FALSE
SUMMARY:Arts Clayton Merry Market & Ribbon Cutting Celebration
DESCRIPTION:Join Arts Clayton for the annual Merry Market. Ribbon Cutting Celebration will begin at 4:00 pm. Refreshments provided by Fig Tree Cafe.
X-ALT-DESC;FMTTYPE=text/html:Join Arts Clayton for the annual Merry Market. Ribbon Cutting Celebration will begin at 4:00 pm. Refreshments provided by Fig Tree Cafe.&nbsp\;
LOCATION:136 S Main St Jonesboro\, GA 30236 Directions: Located in Downtown Jonesboro A block south of Train depot On opposite corner of Jonesboro Methodist Church
UID:e.2931.8298
SEQUENCE:3
DTSTAMP:20260422T061854Z
URL:http://www.claytonchamber.org/events/details/arts-clayton-merry-market-ribbon-cutting-celebration-8298
END:VEVENT

END:VCALENDAR
