BEGIN:VCALENDAR
VERSION:2.0
PRODID:-//ChamberMaster//Event Calendar 2.0//EN
METHOD:PUBLISH
X-PUBLISHED-TTL:P3D
REFRESH-INTERVAL:P3D
CALSCALE:GREGORIAN
BEGIN:VEVENT
DTSTART:20190712T220000Z
DTEND:20190713T000000Z
X-MICROSOFT-CDO-ALLDAYEVENT:FALSE
SUMMARY:ANGIE STONE LIVE AT DBS SOUNDS
DESCRIPTION:DBS Sounds will be having the Incomparable Angie Stone in the building this Friday. We will be listening to her new album "Full Circle" and you will have the opportunity to get up close and personal with this R&B legend. She is releasing an exclusive Purple Vinyl and  Digipak Cd to coincide with this project. You don't want to miss this intimate event and listen to some great music. Refreshments will be served!!
X-ALT-DESC;FMTTYPE=text/html:<strong>DBS Sounds</strong> will be having the <strong>Incomparable</strong> <strong>Angie Stone</strong> in the building this Friday. We will be listening to her new album <strong>&quot\;Full Circle&quot\; </strong>and you will have the opportunity to get up close and personal with this <strong>R&amp\;B legend</strong>. She is releasing an exclusive <strong>Purple Vinyl</strong> and&nbsp\; <strong>Digipak Cd </strong>to coincide with this project. You don&#39\;t want to miss this intimate event and listen to some great music. Refreshments will be served!!
LOCATION:DBS Sounds 6610 HWY 85\, Riverdale\, Ga 30274 770.997.5776
UID:e.2931.7535
SEQUENCE:3
DTSTAMP:20260422T160246Z
URL:http://www.claytonchamber.org/events/details/angie-stone-live-at-dbs-sounds-7535
END:VEVENT

END:VCALENDAR
