BEGIN:VCALENDAR
VERSION:2.0
PRODID:-//ChamberMaster//Event Calendar 2.0//EN
METHOD:PUBLISH
X-PUBLISHED-TTL:P3D
REFRESH-INTERVAL:P3D
CALSCALE:GREGORIAN
BEGIN:VEVENT
DTSTART:20190815T140000Z
DTEND:20190815T160000Z
X-MICROSOFT-CDO-ALLDAYEVENT:FALSE
SUMMARY:All the Right BONDING!
DESCRIPTION:Interested in learning the ins and out of bonding requirement? \n\n\n\nUnderstanding bonding requirements and the process is vital to the success of any business owner but especially for the small business owner so JOIN US as we address essential topics such as:\n\n\n\nBasic concepts of bonding including:\n\n   Bid Bonds\n\n   Payment Bonds\n\n   Performance Bonds\n\n   SBA Bonding\n\n \n\nMARK YOUR CALENDAR!\n\n \n\nTuesday\, May 7\, 2019    11:00AM to 2:00PM\n\nMarie Barber Community Use Room\n\n1600 Battle Creek Rd.\, Morrow\, GA 30260\n\n\n\n Registration is REQUIRED.  This is a lunch-n-learn.  Lunch will be provided to registered attendees ONLY.
X-ALT-DESC;FMTTYPE=text/html:<span style="font-size: 22px\;"><u><span style="font-family: arial narrow\;"><span style="color: red\;">Interested in learning the ins and out of bonding requirement?</span></span></u> </span><br />\n<br />\n<em><span style="font-size: 12pt\;"><span style="font-family: times new roman\;">Understanding bonding requirements and the process&nbsp\;is vital to the success of any business owner but especially for the small business owner so </span></span></em><em><span style="font-size: 16pt\;"><span style="font-family: times new roman\;"><span style="color: rgb(0\, 0\, 192)\;">JOIN US</span></span></span></em> <em><span style="font-size: 12pt\;"><span style="font-family: times new roman\;">as we address essential topics such as:</span></span></em><br />\n<br />\n<span style="font-size: 12pt\;"><span style="font-family: times new roman\;">Basic concepts of bonding including:</span></span><br />\n<span style="font-size: 10pt\;"><span style="font-family: symbol\;"><span style="color: black\;">&middot\;</span></span></span>&nbsp\;<span style="font-size: 12pt\;"><span style="font-family: times new roman\;">&nbsp\;Bid Bonds</span></span><br />\n<span style="font-size: 10pt\;"><span style="font-family: symbol\;"><span style="color: black\;">&middot\;</span></span></span>&nbsp\;<span style="font-size: 12pt\;"><span style="font-family: times new roman\;"> Payment Bonds</span></span><br />\n<span style="font-size: 10pt\;"><span style="font-family: symbol\;"><span style="color: black\;">&middot\;</span></span></span>&nbsp\;<span style="font-size: 12pt\;"><span style="font-family: times new roman\;"> Performance Bonds</span></span><br />\n<span style="font-size: 10pt\;"><span style="font-family: symbol\;"><span style="color: black\;">&middot\;</span></span></span>&nbsp\;<span style="font-size: 12pt\;"><span style="font-family: times new roman\;">&nbsp\;SBA Bonding</span></span><br />\n&nbsp\;<br />\n<em><span style="font-size: 18pt\;"><span style="font-family: arial narrow\;"><span style="color: rgb(0\, 176\, 80)\;">MARK YOUR CALENDAR!</span></span></span></em><br />\n&nbsp\;<br />\n<span style="font-size: 18px\;"><strong>Tuesday\, May 7\, 2019&nbsp\;&nbsp\;&nbsp\; 11:00AM to 2:00PM</strong><br />\nMarie Barber Community Use Room<br />\n<strong><span style="color: rgb(0\, 128\, 0)\;">1600 Battle Creek Rd.\, Morrow\, GA 30260</span></strong></span><br />\n<br />\n&nbsp\;<span style="font-size: 18px\;"><strong>Registration is <span style="color: rgb(255\, 0\, 0)\;">REQUIRED</span>.&nbsp\; This is a lunch-n-learn.&nbsp\; <u><span style="color: rgb(255\, 0\, 0)\;">Lunch will be provided to registered attendees ONLY.</span></u></strong></span><br />\n&nbsp\;
LOCATION:Clayton County Water Authority Marie Barber Community Use Room 1600 Battle Creek Rd. Morrow\, GA 30260
UID:e.2931.7512
SEQUENCE:3
DTSTAMP:20260421T210711Z
URL:http://www.claytonchamber.org/events/details/all-the-right-bonding-7512
END:VEVENT

END:VCALENDAR
