BEGIN:VCALENDAR
VERSION:2.0
PRODID:-//ChamberMaster//Event Calendar 2.0//EN
METHOD:PUBLISH
X-PUBLISHED-TTL:P3D
REFRESH-INTERVAL:P3D
CALSCALE:GREGORIAN
BEGIN:VEVENT
DTSTART:20190727T140000Z
DTEND:20190727T180000Z
X-MICROSOFT-CDO-ALLDAYEVENT:FALSE
SUMMARY:AAA Morrow and the Atlanta Passport Office Present an Exclusive Passport Acceptance Day!
DESCRIPTION:- Book your personal appointment today! \n\n- Everyone regardless of age must have an appointment time! \n\n- Limited Space therefore apply today!
X-ALT-DESC;FMTTYPE=text/html:<span style="font-size:22px\;">- Book your personal appointment today!&nbsp\;<br />\n- Everyone regardless of age must have an appointment time!&nbsp\;<br />\n- Limited Space therefore apply today!</span><br />\n<br />\n<br />\n&nbsp\;
LOCATION:1500 Mt. Zion Rd.\, Suite 205 Morrow\, Ga. 30260 770-961-8085
UID:e.2931.7513
SEQUENCE:3
DTSTAMP:20260422T155021Z
URL:http://www.claytonchamber.org/events/details/aaa-morrow-and-the-atlanta-passport-office-present-an-exclusive-passport-acceptance-day-7513
END:VEVENT

END:VCALENDAR
