BEGIN:VCALENDAR
VERSION:2.0
PRODID:-//ChamberMaster//Event Calendar 2.0//EN
METHOD:PUBLISH
X-PUBLISHED-TTL:P3D
REFRESH-INTERVAL:P3D
CALSCALE:GREGORIAN
BEGIN:VEVENT
DTSTART:20201107T233000Z
DTEND:20201108T030000Z
X-MICROSOFT-CDO-ALLDAYEVENT:FALSE
SUMMARY:4th Annual Chairman Turner's International Ball
DESCRIPTION:Save the date for the 4th Annual Chairman's International Ball. Proceeds to support Safe American Foundation and World Safe. For Additional information visit www.chairmanturnersball.org or contact  (770) 369-4228.\n\n\n\nAttendees will be provided masks\, receive temperature checks\, and seating will be at a safe distance with tables placed more than 6ft. apart.
X-ALT-DESC;FMTTYPE=text/html:Save the date for the 4th Annual Chairman&#39\;s International Ball. Proceeds to support Safe American Foundation and World Safe. For Additional information visit www.chairmanturnersball.org or contact&nbsp\; (770) 369-4228.<br />\n<br />\nAttendees will be provided masks\, receive temperature checks\, and seating will be at a safe distance with tables placed more than 6ft. apart.&nbsp\;
LOCATION:Georgia International Convention Center
UID:e.2931.8310
SEQUENCE:3
DTSTAMP:20260422T041216Z
URL:http://www.claytonchamber.org/events/details/4th-annual-chairman-turner-s-international-ball-8310
END:VEVENT

END:VCALENDAR
