BEGIN:VCALENDAR
VERSION:2.0
PRODID:-//ChamberMaster//Event Calendar 2.0//EN
METHOD:PUBLISH
X-PUBLISHED-TTL:P3D
REFRESH-INTERVAL:P3D
CALSCALE:GREGORIAN
BEGIN:VEVENT
DTSTART:20201111T213000Z
DTEND:20201111T223000Z
X-MICROSOFT-CDO-ALLDAYEVENT:FALSE
SUMMARY:2020 Virtual Principal Partner's Day Orientation/Mixer
DESCRIPTION:The Clayton County Chamber of Commerce together and Clayton County Public Schools are excited to host the 2020 Virtual Principal Partner's Day Program Orientation/Mixer. Offered to Chamber members only!\n\n \n\nPlease compete the following two required task:\n\n\n\n1.  Apply to become a Principal Partner by clicking the "Register Now" button above\n\n(This also registers you for the Orientation/Mixer) \n\n\n\n2.  Register for the Principal Partner's Day Luncheon HERE.\n\n\n\n At the Principal Partner's Day Orientation/Mixer you will:\n\n\n\n*  Meet your designated Principal Partner\n\n*  Receive imperative Principal Partner's Day Program information \n\n*  Network with the Community Stakeholders and participating Clayton County Public School staff members and board members\n\n \n\nYour continued commitment and support will ensure a stronger foundation for our students\, support the school system and strengthen the economic development of our community.\n\n \n\n*The deadline to apply to this program is October 30\, 2020. \n\n\n\nFor more information please contact the chamber at info@claytonchamber.org or call 678-610-4021.
X-ALT-DESC;FMTTYPE=text/html:<span style="color: rgb(0\, 0\, 0)\;"><span style="font-family: arial\,sans-serif\;">The Clayton County Chamber of Commerce together and Clayton County Public Schools are excited to host the 2020 Virtual Principal Partner&#39\;s Day Program Orientation/Mixer.</span></span><span style="color:#FFFF00\;"><span style="font-family: calibri\,sans-serif\;"><span style="font-size: 11pt\;"><span style="background-color:#FFFFE0\;">&nbsp\;</span></span></span></span><strong><span style="color:#800000\;"><span style="font-family: calibri\,sans-serif\;"><span style="font-size: 11pt\;"><span style="background-color:#FFFFE0\;">O</span></span></span><span style="font-family: arial\,sans-serif\;"><span style="background-color:#FFFFE0\;">ffered to Chamber members only!</span></span></span></strong><br />\n<span style="color: rgb(0\, 0\, 0)\;">&nbsp\;<br />\n<strong><span style="font-family: arial\,sans-serif\;">Please compete the following two required task:</span></strong></span><br />\n<br />\n<span style="color: rgb(0\, 0\, 0)\;"><strong><span style="font-family: arial\,sans-serif\;">1.&nbsp\; Apply to become a Principal Partner&nbsp\;by clicking the &quot\;Register Now&quot\; button above</span></strong><br />\n<strong><span style="font-family: arial\,sans-serif\;"><em><span style="background-color:#FFFF00\;">(This also registers you for the Orientation/Mixer)</span></em></span></strong></span><strong><em><strong style="font-family: sans-serif\, Arial\, Verdana\, " trebuchet=""><span style="font-family: arial\, sans-serif\;"><span style="background-color:#FFFF00\;">&nbsp\;</span></span></strong></em></strong><br />\n<br />\n<span style="color: rgb(0\, 0\, 0)\;"><strong><span style="font-family: arial\,sans-serif\;">2.&nbsp\; Register for the Principal Partner&#39\;s Day Luncheon <a href="http://zoom.us/meeting/register/tJEqceuhqjwtHdJ-K4VIwyNkYBUsrLoOX2uC">HERE</a>.</span></strong></span><br />\n<br />\n<span style="font-family:arial\;"><strong><span style="color: rgb(0\, 0\, 0)\;">&nbsp\;At the&nbsp\;</span><strong style="color: rgb(51\, 51\, 51)\; font-family: sans-serif\, Arial\, Verdana\, " trebuchet="">Principal Partner&#39\;s Day Orientation/Mixer you will:</strong></strong></span><br />\n<br />\n<span style="color: rgb(0\, 0\, 0)\;"><span style="font-family: arial\,sans-serif\;">* &nbsp\;Meet your designated Principal Partner</span><br />\n<span style="font-family: arial\,sans-serif\;">*&nbsp\; Receive imperative Principal Partner&#39\;s Day Program information </span><br />\n<span style="font-family: arial\,sans-serif\;">*&nbsp\; Network with the Community Stakeholders and participating Clayton County Public School staff members and board members</span><br />\n&nbsp\;<br />\n<span style="font-family: arial\,sans-serif\;">Your continued commitment and support will ensure a stronger foundation for our students\, support the school system and strengthen the economic development of our community.</span><br />\n&nbsp\;<br />\n<strong><em>*The deadline to apply to this program is October 30\, 2020.&nbsp\;</em></strong><br />\n<br />\n<strong><span style="font-family: arial\,sans-serif\;">For more information please contact the chamber at info@claytonchamber.org or call 678-610-4021.</span></strong></span>
LOCATION:Virtual Event
UID:e.2931.8301
SEQUENCE:3
DTSTAMP:20260422T040814Z
URL:http://www.claytonchamber.org/events/details/2020-virtual-principal-partner-s-day-orientation-mixer-8301
END:VEVENT

END:VCALENDAR
